BEGIN:VCALENDAR
VERSION:2.0
PRODID:-//Plone.org//NONSGML plone.app.event//EN
X-WR-TIMEZONE:Brazil/East
BEGIN:VEVENT
SUMMARY:Auditório - Apresentação Alunos ATIVIDADES
DTSTART;TZID=Brazil/East;VALUE=DATE-TIME:20260508T110000
DTEND;TZID=Brazil/East;VALUE=DATE-TIME:20260508T210000
DTSTAMP;VALUE=DATE-TIME:20260423T013002Z
UID:f4ae9452091d49fc860bbc803cec0505@www.matiasbarbosa.mg.leg.br
CONTACT:Edilson Gomes de Carvalho
CREATED;VALUE=DATE-TIME:20260422T185633Z
DESCRIPTION:Of.1/26 Centro Educacional Atividades solicita espaço para ap
 resentação dos alunos\, equipamentos audiovisuais.
LAST-MODIFIED;VALUE=DATE-TIME:20260422T185635Z
LOCATION:Auditório Vereador Jossenyr Gama Pereira
URL:https://www.matiasbarbosa.mg.leg.br/institucional/eventos/auditorio-ap
 resentacao-alunos-atividades
END:VEVENT
BEGIN:VTIMEZONE
TZID:Brazil/East
X-LIC-LOCATION:Brazil/East
BEGIN:STANDARD
DTSTART;VALUE=DATE-TIME:20260221T230000
TZNAME:BRT
TZOFFSETFROM:-0200
TZOFFSETTO:-0300
END:STANDARD
END:VTIMEZONE
END:VCALENDAR
